BEGIN:VCALENDAR
VERSION:2.0
PRODID:-//Worrigee Sports - ECPv5.6.0//NONSGML v1.0//EN
CALSCALE:GREGORIAN
METHOD:PUBLISH
X-WR-CALNAME:Worrigee Sports
X-ORIGINAL-URL:https://worrigeesports.com.au
X-WR-CALDESC:Events for Worrigee Sports
BEGIN:VTIMEZONE
TZID:UTC
BEGIN:STANDARD
TZOFFSETFROM:+0000
TZOFFSETTO:+0000
TZNAME:UTC
DTSTART:20240101T000000
END:STANDARD
END:VTIMEZONE
BEGIN:VEVENT
DTSTART;TZID=UTC:20240717T200000
DTEND;TZID=UTC:20240717T220000
DTSTAMP:20260421T095334
CREATED:20240618T013803Z
LAST-MODIFIED:20240618T013803Z
UID:3401-1721246400-1721253600@worrigeesports.com.au
SUMMARY:STATE OF ORIGIN GAME III
DESCRIPTION:Witness Australia’s favourite sporting event on our big screen! The epic clash between Queensland and New South Wales is coming to Worrigee Sports on July 17th\, 8pm. \nSecure your spot for this epic showdown and be there to roar on your team (Go Blues!) Plus\, enjoy a limited-edition Footy Feast platter and 2 schooners for just $45. See you there. \n*Offer includes XXXX Gold & Tooheys New for Schooners | Footy Feast serves 2-4 people
URL:https://worrigeesports.com.au/event/state-of-origin-game-iii/
LOCATION:NSW
CATEGORIES:Special Events
ATTACH;FMTTYPE=image/jpeg:https://worrigeesports.com.au/wp-content/uploads/2024/05/WSC_StateofOrigin_FBEventCover.jpg
END:VEVENT
END:VCALENDAR