BEGIN:VCALENDAR
VERSION:2.0
PRODID:-//Worrigee Sports - ECPv5.6.0//NONSGML v1.0//EN
CALSCALE:GREGORIAN
METHOD:PUBLISH
X-WR-CALNAME:Worrigee Sports
X-ORIGINAL-URL:https://worrigeesports.com.au
X-WR-CALDESC:Events for Worrigee Sports
BEGIN:VTIMEZONE
TZID:UTC
BEGIN:STANDARD
TZOFFSETFROM:+0000
TZOFFSETTO:+0000
TZNAME:UTC
DTSTART:20240101T000000
END:STANDARD
END:VTIMEZONE
BEGIN:VEVENT
DTSTART;TZID=UTC:20240818T120000
DTEND;TZID=UTC:20240818T170000
DTSTAMP:20260419T123358
CREATED:20240729T005316Z
LAST-MODIFIED:20240729T005316Z
UID:3430-1723982400-1724000400@worrigeesports.com.au
SUMMARY:UFC 305
DESCRIPTION:Catch all the action of UFC 305 on Sunday\, August 18th from 12pm on the big screen at Worrigee Sports! \nDricus Du Plessis and Israel Adesanya go into the ring to go head to head for the Middleweight Title \nPLUS\, enjoy our delicious wings\, soft drink & burger specials while you watch – available from The Pepper Trees.
URL:https://worrigeesports.com.au/event/ufc-305/
LOCATION:Worrigee Sports Club\, 131 Greenwell Point Road\, Worrigee\, NSW\, 2540\, Australia
CATEGORIES:Special Events
ATTACH;FMTTYPE=image/jpeg:https://worrigeesports.com.au/wp-content/uploads/2024/07/UFC_305_Venue_1920x1080.jpg
END:VEVENT
END:VCALENDAR